BEGIN:VCALENDAR
VERSION:2.0
PRODID:-//Farndon Parish Council//Meeting Calendar//EN
CALSCALE:GREGORIAN
METHOD:PUBLISH
BEGIN:VEVENT
UID:70682-20260407@farndonparishcouncil.gov.uk
DTSTAMP:20260420T125901Z
DTSTART;VALUE=DATE:20260407
DTEND;VALUE=DATE:20260408
SUMMARY:Annual Parish Meeting
DESCRIPTION:Annual Parish Meeting\nView details: https://farndonparishcouncil.gov.uk/meetings/annual-parish-meeting/
URL:https://farndonparishcouncil.gov.uk/meetings/annual-parish-meeting/
END:VEVENT
END:VCALENDAR
