BEGIN:VCALENDAR
VERSION:2.0
PRODID:-//Farndon Parish Council//Meeting Calendar//EN
CALSCALE:GREGORIAN
METHOD:PUBLISH
BEGIN:VEVENT
UID:70545-20230404@farndonparishcouncil.gov.uk
DTSTAMP:20260420T214813Z
DTSTART;VALUE=DATE:20230404
DTEND;VALUE=DATE:20230405
SUMMARY:Annual Council Meeting &#8211\\; 4th APRIL 2023
DESCRIPTION:Annual Parish Meeting\nView details: https://farndonparishcouncil.gov.uk/meetings/annual-council-meeting-4th-april-2023/
URL:https://farndonparishcouncil.gov.uk/meetings/annual-council-meeting-4th-april-2023/
END:VEVENT
END:VCALENDAR
