BEGIN:VCALENDAR
VERSION:2.0
PRODID:-//Farndon Parish Council//Meeting Calendar//EN
CALSCALE:GREGORIAN
METHOD:PUBLISH
BEGIN:VEVENT
UID:70541-20240402@farndonparishcouncil.gov.uk
DTSTAMP:20260424T084145Z
DTSTART;VALUE=DATE:20240402
DTEND;VALUE=DATE:20240403
SUMMARY:Annual Council Meeting &#8211\\; 2nd APRIL 2024
DESCRIPTION:Annual Parish Meeting\nView details: https://farndonparishcouncil.gov.uk/meetings/annual-council-meeting-2nd-april-2024/
URL:https://farndonparishcouncil.gov.uk/meetings/annual-council-meeting-2nd-april-2024/
END:VEVENT
END:VCALENDAR
