BEGIN:VCALENDAR
VERSION:2.0
PRODID:-//Farndon Parish Council//Meeting Calendar//EN
CALSCALE:GREGORIAN
METHOD:PUBLISH
BEGIN:VEVENT
UID:70538-20250401@farndonparishcouncil.gov.uk
DTSTAMP:20260420T160756Z
DTSTART;VALUE=DATE:20250401
DTEND;VALUE=DATE:20250402
SUMMARY:Annual Council Meeting &#8211\\; 1st APRIL 2025
DESCRIPTION:Annual Parish Meeting\nView details: https://farndonparishcouncil.gov.uk/meetings/annual-council-meeting-1st-april-2025/
URL:https://farndonparishcouncil.gov.uk/meetings/annual-council-meeting-1st-april-2025/
END:VEVENT
END:VCALENDAR
