BEGIN:VCALENDAR
VERSION:2.0
PRODID:-//Farndon Parish Council//Meeting Calendar//EN
CALSCALE:GREGORIAN
METHOD:PUBLISH
BEGIN:VEVENT
UID:70490-20240507@farndonparishcouncil.gov.uk
DTSTAMP:20260420T171808Z
DTSTART;VALUE=DATE:20240507
DTEND;VALUE=DATE:20240508
SUMMARY:Annual Council Meeting &#8211\\; 7th May 2024
DESCRIPTION:Annual Parish Meeting\nView details: https://farndonparishcouncil.gov.uk/meetings/annual-council-meeting-7th-may-2024/
URL:https://farndonparishcouncil.gov.uk/meetings/annual-council-meeting-7th-may-2024/
END:VEVENT
END:VCALENDAR
