BEGIN:VCALENDAR
VERSION:2.0
PRODID:-//Farndon Parish Council//Meeting Calendar//EN
CALSCALE:GREGORIAN
METHOD:PUBLISH
BEGIN:VEVENT
UID:70488-20250506@farndonparishcouncil.gov.uk
DTSTAMP:20260420T143203Z
DTSTART;VALUE=DATE:20250506
DTEND;VALUE=DATE:20250507
SUMMARY:Annual Council Meeting &#8211\\; 6th May 2025
DESCRIPTION:Annual Parish Meeting\nView details: https://farndonparishcouncil.gov.uk/meetings/annual-council-meeting-6th-may-2025/
URL:https://farndonparishcouncil.gov.uk/meetings/annual-council-meeting-6th-may-2025/
END:VEVENT
END:VCALENDAR
